BEGIN:VCALENDAR
VERSION:2.0
PRODID:-//Grand Philharmonic Choir - ECPv6.15.15//NONSGML v1.0//EN
CALSCALE:GREGORIAN
METHOD:PUBLISH
X-ORIGINAL-URL:https://grandphilchoir.com
X-WR-CALDESC:Events for Grand Philharmonic Choir
REFRESH-INTERVAL;VALUE=DURATION:PT1H
X-Robots-Tag:noindex
X-PUBLISHED-TTL:PT1H
BEGIN:VTIMEZONE
TZID:America/Toronto
BEGIN:DAYLIGHT
TZOFFSETFROM:-0500
TZOFFSETTO:-0400
TZNAME:EDT
DTSTART:20220313T070000
END:DAYLIGHT
BEGIN:STANDARD
TZOFFSETFROM:-0400
TZOFFSETTO:-0500
TZNAME:EST
DTSTART:20221106T060000
END:STANDARD
BEGIN:DAYLIGHT
TZOFFSETFROM:-0500
TZOFFSETTO:-0400
TZNAME:EDT
DTSTART:20230312T070000
END:DAYLIGHT
BEGIN:STANDARD
TZOFFSETFROM:-0400
TZOFFSETTO:-0500
TZNAME:EST
DTSTART:20231105T060000
END:STANDARD
BEGIN:DAYLIGHT
TZOFFSETFROM:-0500
TZOFFSETTO:-0400
TZNAME:EDT
DTSTART:20240310T070000
END:DAYLIGHT
BEGIN:STANDARD
TZOFFSETFROM:-0400
TZOFFSETTO:-0500
TZNAME:EST
DTSTART:20241103T060000
END:STANDARD
END:VTIMEZONE
BEGIN:VEVENT
DTSTART;TZID=America/Toronto:20230528T150000
DTEND;TZID=America/Toronto:20230528T163000
DTSTAMP:20260419T114113
CREATED:20220518T180211Z
LAST-MODIFIED:20230214T211100Z
UID:28699-1685286000-1685291400@grandphilchoir.com
SUMMARY:Martin's "Water: An Environmental Oratorio" and Bruckner's "Te Deum"
DESCRIPTION:Buy Tickets\nOur season concludes with a brand-new oratorio. We will give the world premiere of Stephanie Martin’s “Water: An Environmental Oratorio”\, the story of the importance of this precious resource and a community’s efforts to protect it. \nAnton Bruckner’s powerful “Te Deum” opens this concert. \nKaty Clark\, Soprano\nMarion Newman\, Mezzo-Soprano\nJean-Philippe Lazure\, Tenor\nPhillip Addis\, Baritone \nKitchener-Waterloo Symphony\nGrand Philharmonic Children’s Choir\nGrand Philharmonic Youth Choir\nGrand Philharmonic Choir \nMark Vuorinen\, conductor
URL:https://grandphilchoir.com/event/martins-water-and-bruckners-te-deum/
LOCATION:Centre In The Square\, 101 Queen St. N\, Kitchener\, Ontario\, N2H 6P7\, Canada
CATEGORIES:Grand Philharmonic Choir
ATTACH;FMTTYPE=image/jpeg:https://grandphilchoir.com/wp-content/uploads/2022/05/WATER_water-art.jpg
END:VEVENT
END:VCALENDAR