BEGIN:VCALENDAR
VERSION:2.0
PRODID:-//Grand Philharmonic Choir - ECPv6.15.15//NONSGML v1.0//EN
CALSCALE:GREGORIAN
METHOD:PUBLISH
X-ORIGINAL-URL:https://grandphilchoir.com
X-WR-CALDESC:Events for Grand Philharmonic Choir
REFRESH-INTERVAL;VALUE=DURATION:PT1H
X-Robots-Tag:noindex
X-PUBLISHED-TTL:PT1H
BEGIN:VTIMEZONE
TZID:America/Toronto
BEGIN:DAYLIGHT
TZOFFSETFROM:-0500
TZOFFSETTO:-0400
TZNAME:EDT
DTSTART:20230312T070000
END:DAYLIGHT
BEGIN:STANDARD
TZOFFSETFROM:-0400
TZOFFSETTO:-0500
TZNAME:EST
DTSTART:20231105T060000
END:STANDARD
BEGIN:DAYLIGHT
TZOFFSETFROM:-0500
TZOFFSETTO:-0400
TZNAME:EDT
DTSTART:20240310T070000
END:DAYLIGHT
BEGIN:STANDARD
TZOFFSETFROM:-0400
TZOFFSETTO:-0500
TZNAME:EST
DTSTART:20241103T060000
END:STANDARD
BEGIN:DAYLIGHT
TZOFFSETFROM:-0500
TZOFFSETTO:-0400
TZNAME:EDT
DTSTART:20250309T070000
END:DAYLIGHT
BEGIN:STANDARD
TZOFFSETFROM:-0400
TZOFFSETTO:-0500
TZNAME:EST
DTSTART:20251102T060000
END:STANDARD
END:VTIMEZONE
BEGIN:VEVENT
DTSTART;TZID=America/Toronto:20240427T193000
DTEND;TZID=America/Toronto:20240427T213000
DTSTAMP:20260419T132000
CREATED:20230619T142124Z
LAST-MODIFIED:20231004T135249Z
UID:29497-1714246200-1714253400@grandphilchoir.com
SUMMARY:Music for a Changing Earth
DESCRIPTION:Buy Tickets\nEvocative music for a changing Earth that will leave you inspired and moved. \nFeaturing Elements: Earth\, Air\, Fire\, Water by the brilliant young Canadian composer Katerina Gimon. Also\, take in works by Palestrina\, Eric Whitacre\, Rupert Lang and Alberto Grau.
URL:https://grandphilchoir.com/event/music-for-a-changing-earth/
LOCATION:St. Matthews Centre\, 54 Benton Street\, Kitchener\, Ontario\, Canada
CATEGORIES:Grand Philharmonic Choir
ATTACH;FMTTYPE=image/jpeg:https://grandphilchoir.com/wp-content/uploads/2023/06/MUSIC-FOR-A-CHANGING-EARTH-ART-scaled.jpg
END:VEVENT
END:VCALENDAR