BEGIN:VCALENDAR
VERSION:2.0
PRODID:-//Grand Philharmonic Choir - ECPv6.15.15//NONSGML v1.0//EN
CALSCALE:GREGORIAN
METHOD:PUBLISH
X-ORIGINAL-URL:https://grandphilchoir.com
X-WR-CALDESC:Events for Grand Philharmonic Choir
REFRESH-INTERVAL;VALUE=DURATION:PT1H
X-Robots-Tag:noindex
X-PUBLISHED-TTL:PT1H
BEGIN:VTIMEZONE
TZID:America/Toronto
BEGIN:DAYLIGHT
TZOFFSETFROM:-0500
TZOFFSETTO:-0400
TZNAME:EDT
DTSTART:20240310T070000
END:DAYLIGHT
BEGIN:STANDARD
TZOFFSETFROM:-0400
TZOFFSETTO:-0500
TZNAME:EST
DTSTART:20241103T060000
END:STANDARD
BEGIN:DAYLIGHT
TZOFFSETFROM:-0500
TZOFFSETTO:-0400
TZNAME:EDT
DTSTART:20250309T070000
END:DAYLIGHT
BEGIN:STANDARD
TZOFFSETFROM:-0400
TZOFFSETTO:-0500
TZNAME:EST
DTSTART:20251102T060000
END:STANDARD
BEGIN:DAYLIGHT
TZOFFSETFROM:-0500
TZOFFSETTO:-0400
TZNAME:EDT
DTSTART:20260308T070000
END:DAYLIGHT
BEGIN:STANDARD
TZOFFSETFROM:-0400
TZOFFSETTO:-0500
TZNAME:EST
DTSTART:20261101T060000
END:STANDARD
END:VTIMEZONE
BEGIN:VEVENT
DTSTART;TZID=America/Toronto:20250118T130000
DTEND;TZID=America/Toronto:20250118T150000
DTSTAMP:20260419T211607
CREATED:20241218T221145Z
LAST-MODIFIED:20241219T220811Z
UID:30351-1737205200-1737212400@grandphilchoir.com
SUMMARY:Musical Skills workshop with Carol Bauman
DESCRIPTION:Musical skills with Carol Bauman: Saturday January 18 2025\, 1-3pm\, Conrad Grebel Chapel \nA workshop designed to build the musical skills for choral singers in a unique and tangible way. Engage with the philosophies of Dalcroze and embodied music-making\, and put them into practice as we focus on building the skills that can make choral singing exquisite (for example\, musical phrasing\, sensitive dynamics\, and confident rhythms) – from a new perspective! Come ready to learn\, and ready to move! This workshop will be facilitated by Greer Schatz and led by Carol Bauman. Carol is a percussionist\, music educator\, retired musical skills instructor at WLU and UW\, and overall warm and wonderful human who loves to bring joy and discovery to the learning process. \nCarol has been teaching and performing for over 45 years.  In the last 10 years\, her interests in rhythm and musicianship have been developing through the study of Dalcroze Eurhythmics.  Carol hopes that bringing experiences in music\, movement\, and improvisation to people of all ages will help others understand music in new ways. \nCost is $10 (free for high school and university students) \nRegistration is required. To register\, click here. \nIf you have questions\, please contact Greer at greerschatz@grandphilchoir.com
URL:https://grandphilchoir.com/event/musical-skills-workshop-with-carol-bauman/
LOCATION:Conrad Grebel University College\, 140 Westmount Rd N\, Waterloo\, Canada
CATEGORIES:Community,Education
END:VEVENT
END:VCALENDAR