BEGIN:VCALENDAR
VERSION:2.0
PRODID:-//Grand Philharmonic Choir - ECPv6.15.15//NONSGML v1.0//EN
CALSCALE:GREGORIAN
METHOD:PUBLISH
X-ORIGINAL-URL:https://grandphilchoir.com
X-WR-CALDESC:Events for Grand Philharmonic Choir
REFRESH-INTERVAL;VALUE=DURATION:PT1H
X-Robots-Tag:noindex
X-PUBLISHED-TTL:PT1H
BEGIN:VTIMEZONE
TZID:America/Toronto
BEGIN:DAYLIGHT
TZOFFSETFROM:-0500
TZOFFSETTO:-0400
TZNAME:EDT
DTSTART:20240310T070000
END:DAYLIGHT
BEGIN:STANDARD
TZOFFSETFROM:-0400
TZOFFSETTO:-0500
TZNAME:EST
DTSTART:20241103T060000
END:STANDARD
BEGIN:DAYLIGHT
TZOFFSETFROM:-0500
TZOFFSETTO:-0400
TZNAME:EDT
DTSTART:20250309T070000
END:DAYLIGHT
BEGIN:STANDARD
TZOFFSETFROM:-0400
TZOFFSETTO:-0500
TZNAME:EST
DTSTART:20251102T060000
END:STANDARD
BEGIN:DAYLIGHT
TZOFFSETFROM:-0500
TZOFFSETTO:-0400
TZNAME:EDT
DTSTART:20260308T070000
END:DAYLIGHT
BEGIN:STANDARD
TZOFFSETFROM:-0400
TZOFFSETTO:-0500
TZNAME:EST
DTSTART:20261101T060000
END:STANDARD
END:VTIMEZONE
BEGIN:VEVENT
DTSTART;TZID=America/Toronto:20250418T193000
DTEND;TZID=America/Toronto:20250418T220000
DTSTAMP:20260420T020021
CREATED:20240611T193722Z
LAST-MODIFIED:20250418T110550Z
UID:30087-1745004600-1745013600@grandphilchoir.com
SUMMARY:St. Matthew Passion
DESCRIPTION:Buy Tickets\nBach’s sublime and powerful setting of the Passion story offers layers of theological and mystical symbolism\, a dramatic Biblical narrative\, and a compassionate\, loving portrayal of the human spirit. \nAsitha Tennekoon – Evangelist\nJesse Blumberg – Jesus\nHélène Brunet – Soprano\nAllyson McHardy – Mezzo-Soprano\nLawrence Wiliford – Tenor\nJamal Al Titi – Baritone \nMusicians of the KW Symphony\nGrand Philharmonic Children’s Choir\nGrand Philharmonic Choir \nMark Vuorinen\, Conductor
URL:https://grandphilchoir.com/event/st-matthew-passion/
LOCATION:Centre In The Square\, 101 Queen St. N\, Kitchener\, Ontario\, N2H 6P7\, Canada
CATEGORIES:Grand Philharmonic Choir
ATTACH;FMTTYPE=image/jpeg:https://grandphilchoir.com/wp-content/uploads/2024/06/BACH-ST.-MATTHEW-PASSION-1-scaled.jpg
END:VEVENT
END:VCALENDAR