BEGIN:VCALENDAR
VERSION:2.0
PRODID:-//Grand Philharmonic Choir - ECPv6.15.15//NONSGML v1.0//EN
CALSCALE:GREGORIAN
METHOD:PUBLISH
X-WR-CALNAME:Grand Philharmonic Choir
X-ORIGINAL-URL:https://grandphilchoir.com
X-WR-CALDESC:Events for Grand Philharmonic Choir
REFRESH-INTERVAL;VALUE=DURATION:PT1H
X-Robots-Tag:noindex
X-PUBLISHED-TTL:PT1H
BEGIN:VTIMEZONE
TZID:America/Toronto
BEGIN:DAYLIGHT
TZOFFSETFROM:-0500
TZOFFSETTO:-0400
TZNAME:EDT
DTSTART:20240310T070000
END:DAYLIGHT
BEGIN:STANDARD
TZOFFSETFROM:-0400
TZOFFSETTO:-0500
TZNAME:EST
DTSTART:20241103T060000
END:STANDARD
BEGIN:DAYLIGHT
TZOFFSETFROM:-0500
TZOFFSETTO:-0400
TZNAME:EDT
DTSTART:20250309T070000
END:DAYLIGHT
BEGIN:STANDARD
TZOFFSETFROM:-0400
TZOFFSETTO:-0500
TZNAME:EST
DTSTART:20251102T060000
END:STANDARD
BEGIN:DAYLIGHT
TZOFFSETFROM:-0500
TZOFFSETTO:-0400
TZNAME:EDT
DTSTART:20260308T070000
END:DAYLIGHT
BEGIN:STANDARD
TZOFFSETFROM:-0400
TZOFFSETTO:-0500
TZNAME:EST
DTSTART:20261101T060000
END:STANDARD
END:VTIMEZONE
BEGIN:VEVENT
DTSTART;TZID=America/Toronto:20251107T190000
DTEND;TZID=America/Toronto:20251107T203000
DTSTAMP:20260420T075917
CREATED:20251028T122756Z
LAST-MODIFIED:20251028T123143Z
UID:31036-1762542000-1762547400@grandphilchoir.com
SUMMARY:Fight the Flight!
DESCRIPTION:Clinician Amie Debrone will help us use Neuro Athletics to calm nerves and improve vocal stamina! \nThis workshop is great for people who experience “stage fright” or just want to train themselves to have more control over their voice. It’s open to everyone– please join us! \nFriday Nov. 7\n7 p.m. to 8:30 p.m.\nGreat Hall\, Conrad Grebel University College\, University of Waterloo \n$10 fee\, free for students.\nSign up here.
URL:https://grandphilchoir.com/event/fight-the-flight/
LOCATION:Conrad Grebel University College\, 140 Westmount Rd N\, Waterloo\, Canada
END:VEVENT
END:VCALENDAR