BEGIN:VCALENDAR
VERSION:2.0
PRODID:-//Grand Philharmonic Choir - ECPv6.15.20//NONSGML v1.0//EN
CALSCALE:GREGORIAN
METHOD:PUBLISH
X-ORIGINAL-URL:https://grandphilchoir.com
X-WR-CALDESC:Events for Grand Philharmonic Choir
REFRESH-INTERVAL;VALUE=DURATION:PT1H
X-Robots-Tag:noindex
X-PUBLISHED-TTL:PT1H
BEGIN:VTIMEZONE
TZID:America/Toronto
BEGIN:DAYLIGHT
TZOFFSETFROM:-0500
TZOFFSETTO:-0400
TZNAME:EDT
DTSTART:20240310T070000
END:DAYLIGHT
BEGIN:STANDARD
TZOFFSETFROM:-0400
TZOFFSETTO:-0500
TZNAME:EST
DTSTART:20241103T060000
END:STANDARD
BEGIN:DAYLIGHT
TZOFFSETFROM:-0500
TZOFFSETTO:-0400
TZNAME:EDT
DTSTART:20250309T070000
END:DAYLIGHT
BEGIN:STANDARD
TZOFFSETFROM:-0400
TZOFFSETTO:-0500
TZNAME:EST
DTSTART:20251102T060000
END:STANDARD
BEGIN:DAYLIGHT
TZOFFSETFROM:-0500
TZOFFSETTO:-0400
TZNAME:EDT
DTSTART:20260308T070000
END:DAYLIGHT
BEGIN:STANDARD
TZOFFSETFROM:-0400
TZOFFSETTO:-0500
TZNAME:EST
DTSTART:20261101T060000
END:STANDARD
END:VTIMEZONE
BEGIN:VEVENT
DTSTART;TZID=America/Toronto:20251122T190000
DTEND;TZID=America/Toronto:20251122T203000
DTSTAMP:20260423T061615
CREATED:20251031T015255Z
LAST-MODIFIED:20251121T192637Z
UID:31051-1763838000-1763843400@grandphilchoir.com
SUMMARY:Take a Winter Walk With Me
DESCRIPTION:Our Children’s and Youth choirs present a concert of songs of light and memory \nSaturday November 22nd\, 7:00pm\nTrillium Lutheran Church\, 22 Willow St. Waterloo \nGrand Philharmonic Children’s Choir\nAndrea DeBoer-Jones\, conductor \nGrand Philharmonic Youth Choir\nGreer Schatz\, conductor \nTickets at the door on the night of the concert
URL:https://grandphilchoir.com/event/winter-concert/
LOCATION:Trillium Lutheran Church\, 22 Willow Street\, Waterloo\, ON\, Canada
CATEGORIES:Children's Choir,Youth Choir
END:VEVENT
END:VCALENDAR