BEGIN:VCALENDAR
VERSION:2.0
PRODID:-//Grand Philharmonic Choir - ECPv6.15.15//NONSGML v1.0//EN
CALSCALE:GREGORIAN
METHOD:PUBLISH
X-WR-CALNAME:Grand Philharmonic Choir
X-ORIGINAL-URL:https://grandphilchoir.com
X-WR-CALDESC:Events for Grand Philharmonic Choir
REFRESH-INTERVAL;VALUE=DURATION:PT1H
X-Robots-Tag:noindex
X-PUBLISHED-TTL:PT1H
BEGIN:VTIMEZONE
TZID:America/Toronto
BEGIN:DAYLIGHT
TZOFFSETFROM:-0500
TZOFFSETTO:-0400
TZNAME:EDT
DTSTART:20150308T070000
END:DAYLIGHT
BEGIN:STANDARD
TZOFFSETFROM:-0400
TZOFFSETTO:-0500
TZNAME:EST
DTSTART:20151101T060000
END:STANDARD
BEGIN:DAYLIGHT
TZOFFSETFROM:-0500
TZOFFSETTO:-0400
TZNAME:EDT
DTSTART:20160313T070000
END:DAYLIGHT
BEGIN:STANDARD
TZOFFSETFROM:-0400
TZOFFSETTO:-0500
TZNAME:EST
DTSTART:20161106T060000
END:STANDARD
BEGIN:DAYLIGHT
TZOFFSETFROM:-0500
TZOFFSETTO:-0400
TZNAME:EDT
DTSTART:20170312T070000
END:DAYLIGHT
BEGIN:STANDARD
TZOFFSETFROM:-0400
TZOFFSETTO:-0500
TZNAME:EST
DTSTART:20171105T060000
END:STANDARD
END:VTIMEZONE
BEGIN:VEVENT
DTSTART;TZID=America/Toronto:20161001T093000
DTEND;TZID=America/Toronto:20161001T120000
DTSTAMP:20260420T084958
CREATED:20160714T183023Z
LAST-MODIFIED:20160926T191457Z
UID:24833-1475314200-1475323200@grandphilchoir.com
SUMMARY:Sing-In
DESCRIPTION:Open public rehearsal of Mozart’s Mass in C Minor\n	\n		\n		Register	\n	\n\nWe love it when we get to sing with fellow music lovers! \nJoin us at our free open public rehearsal. Please let us know that you will be coming and we will have scores available to borrow.
URL:https://grandphilchoir.com/event/sing-in/
LOCATION:St. Andrew’s Presbyterian Church\, 54 Queen St N\, Kitchener\, Ontario\, N2H 2H2\, Canada
CATEGORIES:Community
ATTACH;FMTTYPE=image/jpeg:https://grandphilchoir.com/wp-content/uploads/2016/07/sing-in-2016.jpg
ORGANIZER;CN="Grand Philharmonic Choir":MAILTO:info@grandphilchoir.com
END:VEVENT
END:VCALENDAR