BEGIN:VCALENDAR
VERSION:2.0
PRODID:-//Grand Philharmonic Choir - ECPv6.15.15//NONSGML v1.0//EN
CALSCALE:GREGORIAN
METHOD:PUBLISH
X-WR-CALNAME:Grand Philharmonic Choir
X-ORIGINAL-URL:https://grandphilchoir.com
X-WR-CALDESC:Events for Grand Philharmonic Choir
REFRESH-INTERVAL;VALUE=DURATION:PT1H
X-Robots-Tag:noindex
X-PUBLISHED-TTL:PT1H
BEGIN:VTIMEZONE
TZID:America/Toronto
BEGIN:DAYLIGHT
TZOFFSETFROM:-0500
TZOFFSETTO:-0400
TZNAME:EDT
DTSTART:20220313T070000
END:DAYLIGHT
BEGIN:STANDARD
TZOFFSETFROM:-0400
TZOFFSETTO:-0500
TZNAME:EST
DTSTART:20221106T060000
END:STANDARD
BEGIN:DAYLIGHT
TZOFFSETFROM:-0500
TZOFFSETTO:-0400
TZNAME:EDT
DTSTART:20230312T070000
END:DAYLIGHT
BEGIN:STANDARD
TZOFFSETFROM:-0400
TZOFFSETTO:-0500
TZNAME:EST
DTSTART:20231105T060000
END:STANDARD
BEGIN:DAYLIGHT
TZOFFSETFROM:-0500
TZOFFSETTO:-0400
TZNAME:EDT
DTSTART:20240310T070000
END:DAYLIGHT
BEGIN:STANDARD
TZOFFSETFROM:-0400
TZOFFSETTO:-0500
TZNAME:EST
DTSTART:20241103T060000
END:STANDARD
END:VTIMEZONE
BEGIN:VEVENT
DTSTART;TZID=America/Toronto:20230407T193000
DTEND;TZID=America/Toronto:20230407T220000
DTSTAMP:20260419T132003
CREATED:20220518T180029Z
LAST-MODIFIED:20220706T135809Z
UID:28697-1680895800-1680904800@grandphilchoir.com
SUMMARY:Bach B-Minor Mass
DESCRIPTION:Buy Tickets\nJoin us in this beloved Good Friday tradition. This magnificent work speaks to the full spectrum of human experience\, from the sparkling joy of “Gloria” to the suffering of “Crucifixus” and the final serenity of “Dona nobis pacem”. \nSherezade Panthaki\, Soprano\nJulia Dawson\, Mezzo-Soprano\nLawrence Wiliford\, Tenor\nJonathon Adams\, Baritone \nKitchener-Waterloo Symphony\nGrand Philharmonic Choir \nMark Vuorinen\, conductor
URL:https://grandphilchoir.com/event/bach-b-minor-mass/
LOCATION:Centre In The Square\, 101 Queen St. N\, Kitchener\, Ontario\, N2H 6P7\, Canada
CATEGORIES:Grand Philharmonic Choir
ATTACH;FMTTYPE=image/jpeg:https://grandphilchoir.com/wp-content/uploads/2022/05/BACH_B-MINOR_Kazimir-Malevich-scaled.jpeg
END:VEVENT
END:VCALENDAR