BEGIN:VCALENDAR
VERSION:2.0
PRODID:-//Grand Philharmonic Choir - ECPv6.15.15//NONSGML v1.0//EN
CALSCALE:GREGORIAN
METHOD:PUBLISH
X-WR-CALNAME:Grand Philharmonic Choir
X-ORIGINAL-URL:https://grandphilchoir.com
X-WR-CALDESC:Events for Grand Philharmonic Choir
REFRESH-INTERVAL;VALUE=DURATION:PT1H
X-Robots-Tag:noindex
X-PUBLISHED-TTL:PT1H
BEGIN:VTIMEZONE
TZID:America/Toronto
BEGIN:DAYLIGHT
TZOFFSETFROM:-0500
TZOFFSETTO:-0400
TZNAME:EDT
DTSTART:20220313T070000
END:DAYLIGHT
BEGIN:STANDARD
TZOFFSETFROM:-0400
TZOFFSETTO:-0500
TZNAME:EST
DTSTART:20221106T060000
END:STANDARD
BEGIN:DAYLIGHT
TZOFFSETFROM:-0500
TZOFFSETTO:-0400
TZNAME:EDT
DTSTART:20230312T070000
END:DAYLIGHT
BEGIN:STANDARD
TZOFFSETFROM:-0400
TZOFFSETTO:-0500
TZNAME:EST
DTSTART:20231105T060000
END:STANDARD
BEGIN:DAYLIGHT
TZOFFSETFROM:-0500
TZOFFSETTO:-0400
TZNAME:EDT
DTSTART:20240310T070000
END:DAYLIGHT
BEGIN:STANDARD
TZOFFSETFROM:-0400
TZOFFSETTO:-0500
TZNAME:EST
DTSTART:20241103T060000
END:STANDARD
END:VTIMEZONE
BEGIN:VEVENT
DTSTART;TZID=America/Toronto:20230613T183000
DTEND;TZID=America/Toronto:20230613T193000
DTSTAMP:20260419T101401
CREATED:20230602T024658Z
LAST-MODIFIED:20230602T024658Z
UID:29476-1686681000-1686684600@grandphilchoir.com
SUMMARY:Haudenosaunee Voices
DESCRIPTION:A family-friendly interactive workshop with singing\, dancing and exploring our connection to Mother Earth\nLed by Kelly Fran Davis \nTuesday\, June 13\, 6:30 to 7:30 p.m.\nKitchener City Hall Rotunda\nFree and open to all
URL:https://grandphilchoir.com/event/haudenosaunee-voices/
LOCATION:Kitchener City Hall Rotunda\, 200 King St W\, Kitchener\, Ontario\, N2G 4G7\, Canada
END:VEVENT
END:VCALENDAR