BEGIN:VCALENDAR
VERSION:2.0
PRODID:-//Grand Philharmonic Choir - ECPv6.15.15//NONSGML v1.0//EN
CALSCALE:GREGORIAN
METHOD:PUBLISH
X-WR-CALNAME:Grand Philharmonic Choir
X-ORIGINAL-URL:https://grandphilchoir.com
X-WR-CALDESC:Events for Grand Philharmonic Choir
REFRESH-INTERVAL;VALUE=DURATION:PT1H
X-Robots-Tag:noindex
X-PUBLISHED-TTL:PT1H
BEGIN:VTIMEZONE
TZID:America/Toronto
BEGIN:DAYLIGHT
TZOFFSETFROM:-0500
TZOFFSETTO:-0400
TZNAME:EDT
DTSTART:20230312T070000
END:DAYLIGHT
BEGIN:STANDARD
TZOFFSETFROM:-0400
TZOFFSETTO:-0500
TZNAME:EST
DTSTART:20231105T060000
END:STANDARD
BEGIN:DAYLIGHT
TZOFFSETFROM:-0500
TZOFFSETTO:-0400
TZNAME:EDT
DTSTART:20240310T070000
END:DAYLIGHT
BEGIN:STANDARD
TZOFFSETFROM:-0400
TZOFFSETTO:-0500
TZNAME:EST
DTSTART:20241103T060000
END:STANDARD
BEGIN:DAYLIGHT
TZOFFSETFROM:-0500
TZOFFSETTO:-0400
TZNAME:EDT
DTSTART:20250309T070000
END:DAYLIGHT
BEGIN:STANDARD
TZOFFSETFROM:-0400
TZOFFSETTO:-0500
TZNAME:EST
DTSTART:20251102T060000
END:STANDARD
END:VTIMEZONE
BEGIN:VEVENT
DTSTART;TZID=America/Toronto:20241019T140000
DTEND;TZID=America/Toronto:20241019T160000
DTSTAMP:20260419T145349
CREATED:20241007T130626Z
LAST-MODIFIED:20241007T130626Z
UID:30262-1729346400-1729353600@grandphilchoir.com
SUMMARY:Phil Up Your Glass!
DESCRIPTION:Celebrate singing and the season with our first ever “Phil Up Your Glass” event! \n\nJoin us in a rousing singalong with songs like Spirit of the West’s “Home for a Rest” and Neil Diamond’s “Sweet Caroline.”\nEnjoy delicious malted creations from our friends at TWB Brewing while toasting to the legacy of drinking and song.\n\nBring your friends! No musical training required! \nSaturday October 19th\, 2 to 4 p.m. \n\nTWB Brewing\, 300 Mill St.\, Kitchener).\nLed by outreach director and youth choir conductor Greer Schatz.\n\nTickets available in advance for $10 at grandphilchoir.square.site/s/shop or at the door if there’s still room.\n(Admission price does not include drinks)
URL:https://grandphilchoir.com/event/phil-up-your-glass/
LOCATION:TWB Brewing\, 300 Mill St\, Kitchener\, ON\, N2M3R8\, Canada
ORGANIZER;CN="Grand Philharmonic Choir":MAILTO:info@grandphilchoir.com
END:VEVENT
BEGIN:VEVENT
DTSTART;TZID=America/Toronto:20241026T193000
DTEND;TZID=America/Toronto:20241026T220000
DTSTAMP:20260419T145349
CREATED:20240611T192045Z
LAST-MODIFIED:20240611T192838Z
UID:30076-1729971000-1729980000@grandphilchoir.com
SUMMARY:Carmina Burana
DESCRIPTION:Buy Tickets\nCarmina Burana is an over-the-top feast of love songs\, drinking songs\, and a powerful ode to the fickleness of fate. By turns clever\, tender\, and sardonic\, it’s a lot of fun for the singers as well as the audience! \nAndrew Balfour’s moving work is a setting of Psalm 67 in Cree\, which explores the difficult relationship between Indigenous spirituality and the impact of the Christian culture on First Nations people. \nLindsay McIntyre – Soprano\nChris Fischer – Tenor\nNathan Keoughan – Baritone \nMusicians of the KW Symphony\nGrand Philharmonic Children’s Choir\nGrand Philharmonic Choir \nMark Vuorinen\, Conductor
URL:https://grandphilchoir.com/event/carmina-burana/
LOCATION:Centre In The Square\, 101 Queen St. N\, Kitchener\, Ontario\, N2H 6P7\, Canada
CATEGORIES:Children's Choir,GPC Choir,Grand Philharmonic Choir
ATTACH;FMTTYPE=image/jpeg:https://grandphilchoir.com/wp-content/uploads/2024/06/CARMINA-BURANA-1-scaled.jpg
END:VEVENT
END:VCALENDAR