BEGIN:VCALENDAR
VERSION:2.0
PRODID:-//Grand Philharmonic Choir - ECPv6.15.15//NONSGML v1.0//EN
CALSCALE:GREGORIAN
METHOD:PUBLISH
X-ORIGINAL-URL:https://grandphilchoir.com
X-WR-CALDESC:Events for Grand Philharmonic Choir
REFRESH-INTERVAL;VALUE=DURATION:PT1H
X-Robots-Tag:noindex
X-PUBLISHED-TTL:PT1H
BEGIN:VTIMEZONE
TZID:America/Toronto
BEGIN:DAYLIGHT
TZOFFSETFROM:-0500
TZOFFSETTO:-0400
TZNAME:EDT
DTSTART:20230312T070000
END:DAYLIGHT
BEGIN:STANDARD
TZOFFSETFROM:-0400
TZOFFSETTO:-0500
TZNAME:EST
DTSTART:20231105T060000
END:STANDARD
BEGIN:DAYLIGHT
TZOFFSETFROM:-0500
TZOFFSETTO:-0400
TZNAME:EDT
DTSTART:20240310T070000
END:DAYLIGHT
BEGIN:STANDARD
TZOFFSETFROM:-0400
TZOFFSETTO:-0500
TZNAME:EST
DTSTART:20241103T060000
END:STANDARD
BEGIN:DAYLIGHT
TZOFFSETFROM:-0500
TZOFFSETTO:-0400
TZNAME:EDT
DTSTART:20250309T070000
END:DAYLIGHT
BEGIN:STANDARD
TZOFFSETFROM:-0400
TZOFFSETTO:-0500
TZNAME:EST
DTSTART:20251102T060000
END:STANDARD
END:VTIMEZONE
BEGIN:VEVENT
DTSTART;TZID=America/Toronto:20241214T193000
DTEND;TZID=America/Toronto:20241214T220000
DTSTAMP:20260419T181226
CREATED:20240611T192659Z
LAST-MODIFIED:20240611T192818Z
UID:30080-1734204600-1734213600@grandphilchoir.com
SUMMARY:Messiah
DESCRIPTION:Buy Tickets\nNo matter how many times you may have heard Handel’s Messiah\, it is always as fresh\, hopeful\, and lovely as an evergreen tree covered in sparkling decorations! Join us for this special occasion at Christmas time\, and make your season complete! \nClaire de Sévigné – Soprano\nLillian Brooks – Mezzo-Soprano\nOwen McCausland – Tenor\nAndrew Mahon – Baritone \nMusicians of the KW Symphony\nGrand Philharmonic Choir \nMark Vuorinen\, Conductor
URL:https://grandphilchoir.com/event/messiah-5/
LOCATION:Centre In The Square\, 101 Queen St. N\, Kitchener\, Ontario\, N2H 6P7\, Canada
CATEGORIES:GPC Choir,Grand Philharmonic Chamber Singers
ATTACH;FMTTYPE=image/jpeg:https://grandphilchoir.com/wp-content/uploads/2024/06/HANDEL-MESSIAH-1-scaled.jpg
END:VEVENT
END:VCALENDAR