BEGIN:VCALENDAR
VERSION:2.0
PRODID:-//Grand Philharmonic Choir - ECPv6.15.15//NONSGML v1.0//EN
CALSCALE:GREGORIAN
METHOD:PUBLISH
X-ORIGINAL-URL:https://grandphilchoir.com
X-WR-CALDESC:Events for Grand Philharmonic Choir
REFRESH-INTERVAL;VALUE=DURATION:PT1H
X-Robots-Tag:noindex
X-PUBLISHED-TTL:PT1H
BEGIN:VTIMEZONE
TZID:America/Toronto
BEGIN:DAYLIGHT
TZOFFSETFROM:-0500
TZOFFSETTO:-0400
TZNAME:EDT
DTSTART:20240310T070000
END:DAYLIGHT
BEGIN:STANDARD
TZOFFSETFROM:-0400
TZOFFSETTO:-0500
TZNAME:EST
DTSTART:20241103T060000
END:STANDARD
BEGIN:DAYLIGHT
TZOFFSETFROM:-0500
TZOFFSETTO:-0400
TZNAME:EDT
DTSTART:20250309T070000
END:DAYLIGHT
BEGIN:STANDARD
TZOFFSETFROM:-0400
TZOFFSETTO:-0500
TZNAME:EST
DTSTART:20251102T060000
END:STANDARD
BEGIN:DAYLIGHT
TZOFFSETFROM:-0500
TZOFFSETTO:-0400
TZNAME:EDT
DTSTART:20260308T070000
END:DAYLIGHT
BEGIN:STANDARD
TZOFFSETFROM:-0400
TZOFFSETTO:-0500
TZNAME:EST
DTSTART:20261101T060000
END:STANDARD
END:VTIMEZONE
BEGIN:VEVENT
DTSTART;TZID=America/Toronto:20250208T103000
DTEND;TZID=America/Toronto:20250208T120000
DTSTAMP:20260419T211639
CREATED:20241218T221557Z
LAST-MODIFIED:20241218T222617Z
UID:30355-1739010600-1739016000@grandphilchoir.com
SUMMARY:Vocal Technique with Katy Clark
DESCRIPTION:Vocal technique with Katy Clark: Saturday February 8 2025\, 10:30-Noon\, Conrad Grebel Community Education Room \nThis workshop will be specifically designed for the choral singer interested in getting better acquainted with the mechanics of their instrument\, and learn how to strengthen their vocal techniques for a lifetime of beautiful choral singing! In this interactive learning experience led by Katy Clark\, singers will have the opportunity to put into practice their newfound knowledge and ask their most serious singing questions – what can you do if you’re experiencing vocal fatigue? What’s the point of a warm-up? How can you work to expand your range? Katy will know! \nCanadian soprano Katy Clark is known for her versatility as a singer\, lecturer\, and teacher of a variety of musical styles. She holds a DMA in Voice Performance from the University of Toronto\, and has taught Vocal Techniques and Voice Pedagogy at Wilfrid Laurier University and McMaster University. She placed second overall\, and won the prize for the Best Performance of the Commissioned Work\, at the 2023 Eckhardt-Gramatté National Music Competition. She has won the Jim and Charlotte Norcop Prize in Song and the Sheila and Marla Zack Competition\, and has also won prizes in the Harold Haugh Competition and the Metropolitan Opera National Council Auditions. Katy was a recipient of the 2017-2018 Rebanks Family Fellowship and International Performance Residency\, and has performed as a soloist with the Amici Chamber Ensemble\, Michigan Opera Theatre\, the Windsor Symphony Orchestra\, London Symphonia\, and the Kitchener-Waterloo Symphony. She has given more than 200 performances with Shoestring Opera\, bringing The Magic Flute\, Carmen\, and Hansel and Gretel to school-aged children across Canada. In 2023\, she created the role of “Water” in Stephanie Martin’s oratorio of the same name with the Grand Philharmonic Choir. She is a member of The Elora Singers and Opus 8\, and a former member of the Canadian Opera Company Chorus and Tafelmusik Chamber Choir. She operates a private voice studio in London. For upcoming performances and more info\, visit katyclarksoprano.com.
URL:https://grandphilchoir.com/event/vocal-technique-with-katy-clark/
LOCATION:Conrad Grebel University College\, 140 Westmount Rd N\, Waterloo\, Canada
CATEGORIES:Community,Education
END:VEVENT
BEGIN:VEVENT
DTSTART;TZID=America/Toronto:20250222T160000
DTEND;TZID=America/Toronto:20250222T173000
DTSTAMP:20260419T211639
CREATED:20250203T202842Z
LAST-MODIFIED:20250205T013435Z
UID:30496-1740240000-1740245400@grandphilchoir.com
SUMMARY:This Is Me - Children's and Youth Choirs\, with Carousel Dance Centre
DESCRIPTION:Buy Tickets\nWe’re thrilled to be collaborating again with the Carousel Dance Centre\, with music from Broadway shows such as the Greatest Showman\, the Lion King\, and more! \nThere will be two performances – one at 4:00pm and one at 7:00pm. Tickets are $20 for adults\, $5 for students and under-30s\, free for grade 8 and under (but do get them a ticket anyway so we have an accurate seat count!)
URL:https://grandphilchoir.com/event/this-is-me-childrens-and-youth-choir-with-carousel-dance-centre/
LOCATION:Knox Presbyterian Church\, 50 Erb St. West\, Waterloo\, ON\, N2L 1T1\, Canada
CATEGORIES:Children's Choir,Youth Choir
ATTACH;FMTTYPE=image/jpeg:https://grandphilchoir.com/wp-content/uploads/2025/02/This-Is-Me-graphic.jpg
END:VEVENT
END:VCALENDAR